BEGIN:VCALENDAR
VERSION:2.0
PRODID:-//Tiffin University - ECPv6.15.18//NONSGML v1.0//EN
CALSCALE:GREGORIAN
METHOD:PUBLISH
X-ORIGINAL-URL:https://www.tiffin.edu
X-WR-CALDESC:Events for Tiffin University
REFRESH-INTERVAL;VALUE=DURATION:PT1H
X-Robots-Tag:noindex
X-PUBLISHED-TTL:PT1H
BEGIN:VTIMEZONE
TZID:America/New_York
BEGIN:DAYLIGHT
TZOFFSETFROM:-0500
TZOFFSETTO:-0400
TZNAME:EDT
DTSTART:20230312T070000
END:DAYLIGHT
BEGIN:STANDARD
TZOFFSETFROM:-0400
TZOFFSETTO:-0500
TZNAME:EST
DTSTART:20231105T060000
END:STANDARD
BEGIN:DAYLIGHT
TZOFFSETFROM:-0500
TZOFFSETTO:-0400
TZNAME:EDT
DTSTART:20240310T070000
END:DAYLIGHT
BEGIN:STANDARD
TZOFFSETFROM:-0400
TZOFFSETTO:-0500
TZNAME:EST
DTSTART:20241103T060000
END:STANDARD
BEGIN:DAYLIGHT
TZOFFSETFROM:-0500
TZOFFSETTO:-0400
TZNAME:EDT
DTSTART:20250309T070000
END:DAYLIGHT
BEGIN:STANDARD
TZOFFSETFROM:-0400
TZOFFSETTO:-0500
TZNAME:EST
DTSTART:20251102T060000
END:STANDARD
END:VTIMEZONE
BEGIN:VEVENT
DTSTART;TZID=America/New_York:20241023T120000
DTEND;TZID=America/New_York:20241023T124500
DTSTAMP:20260421T043712
CREATED:20240830T144845Z
LAST-MODIFIED:20240830T145016Z
UID:12743-1729684800-1729687500@www.tiffin.edu
SUMMARY:Wellness Wednesdays
DESCRIPTION:Come join staff of Counseling and Wellness in a guided mindfulness activity. Mindfulness-based treatment have been shown to reduce anxiety and depression.
URL:https://www.tiffin.edu/event/wellness-wednesdays/2024-10-23/
LOCATION:Friedley- Basement
CATEGORIES:Wellness
END:VEVENT
BEGIN:VEVENT
DTSTART;TZID=America/New_York:20241016T120000
DTEND;TZID=America/New_York:20241016T124500
DTSTAMP:20260421T043712
CREATED:20240830T144845Z
LAST-MODIFIED:20240830T145015Z
UID:12742-1729080000-1729082700@www.tiffin.edu
SUMMARY:Wellness Wednesdays
DESCRIPTION:Come join staff of Counseling and Wellness in a guided mindfulness activity. Mindfulness-based treatment have been shown to reduce anxiety and depression.
URL:https://www.tiffin.edu/event/wellness-wednesdays/2024-10-16/
LOCATION:Friedley- Basement
CATEGORIES:Wellness
END:VEVENT
BEGIN:VEVENT
DTSTART;TZID=America/New_York:20241002T120000
DTEND;TZID=America/New_York:20241002T124500
DTSTAMP:20260421T043712
CREATED:20240830T144845Z
LAST-MODIFIED:20240830T145015Z
UID:12740-1727870400-1727873100@www.tiffin.edu
SUMMARY:Wellness Wednesdays
DESCRIPTION:Come join staff of Counseling and Wellness in a guided mindfulness activity. Mindfulness-based treatment have been shown to reduce anxiety and depression.
URL:https://www.tiffin.edu/event/wellness-wednesdays/2024-10-02/
LOCATION:Friedley- Basement
CATEGORIES:Wellness
END:VEVENT
BEGIN:VEVENT
DTSTART;TZID=America/New_York:20240925T120000
DTEND;TZID=America/New_York:20240925T124500
DTSTAMP:20260421T043712
CREATED:20240830T144845Z
LAST-MODIFIED:20240830T145014Z
UID:12739-1727265600-1727268300@www.tiffin.edu
SUMMARY:Wellness Wednesdays
DESCRIPTION:Come join staff of Counseling and Wellness in a guided mindfulness activity. Mindfulness-based treatment have been shown to reduce anxiety and depression.
URL:https://www.tiffin.edu/event/wellness-wednesdays/2024-09-25/
LOCATION:Friedley- Basement
CATEGORIES:Wellness
END:VEVENT
BEGIN:VEVENT
DTSTART;TZID=America/New_York:20240918T120000
DTEND;TZID=America/New_York:20240918T124500
DTSTAMP:20260421T043712
CREATED:20240830T144845Z
LAST-MODIFIED:20240830T145014Z
UID:12738-1726660800-1726663500@www.tiffin.edu
SUMMARY:Wellness Wednesdays
DESCRIPTION:Come join staff of Counseling and Wellness in a guided mindfulness activity. Mindfulness-based treatment have been shown to reduce anxiety and depression.
URL:https://www.tiffin.edu/event/wellness-wednesdays/2024-09-18/
LOCATION:Friedley- Basement
CATEGORIES:Wellness
END:VEVENT
BEGIN:VEVENT
DTSTART;TZID=America/New_York:20240911T120000
DTEND;TZID=America/New_York:20240911T124500
DTSTAMP:20260421T043712
CREATED:20240830T144845Z
LAST-MODIFIED:20240830T145014Z
UID:12737-1726056000-1726058700@www.tiffin.edu
SUMMARY:Wellness Wednesdays
DESCRIPTION:Come join staff of Counseling and Wellness in a guided mindfulness activity. Mindfulness-based treatment have been shown to reduce anxiety and depression.
URL:https://www.tiffin.edu/event/wellness-wednesdays/2024-09-11/
LOCATION:Friedley- Basement
CATEGORIES:Wellness
END:VEVENT
BEGIN:VEVENT
DTSTART;TZID=America/New_York:20240904T120000
DTEND;TZID=America/New_York:20240904T124500
DTSTAMP:20260421T043712
CREATED:20240830T144845Z
LAST-MODIFIED:20240830T145013Z
UID:12735-1725451200-1725453900@www.tiffin.edu
SUMMARY:Wellness Wednesdays
DESCRIPTION:Come join staff of Counseling and Wellness in a guided mindfulness activity. Mindfulness-based treatment have been shown to reduce anxiety and depression.
URL:https://www.tiffin.edu/event/wellness-wednesdays/2024-09-04/
LOCATION:Friedley- Basement
CATEGORIES:Wellness
END:VEVENT
END:VCALENDAR