BEGIN:VCALENDAR
VERSION:2.0
PRODID:-//Tiffin University - ECPv6.15.18//NONSGML v1.0//EN
CALSCALE:GREGORIAN
METHOD:PUBLISH
X-WR-CALNAME:Tiffin University
X-ORIGINAL-URL:https://www.tiffin.edu
X-WR-CALDESC:Events for Tiffin University
REFRESH-INTERVAL;VALUE=DURATION:PT1H
X-Robots-Tag:noindex
X-PUBLISHED-TTL:PT1H
BEGIN:VTIMEZONE
TZID:America/New_York
BEGIN:DAYLIGHT
TZOFFSETFROM:-0500
TZOFFSETTO:-0400
TZNAME:EDT
DTSTART:20210314T070000
END:DAYLIGHT
BEGIN:STANDARD
TZOFFSETFROM:-0400
TZOFFSETTO:-0500
TZNAME:EST
DTSTART:20211107T060000
END:STANDARD
BEGIN:DAYLIGHT
TZOFFSETFROM:-0500
TZOFFSETTO:-0400
TZNAME:EDT
DTSTART:20220313T070000
END:DAYLIGHT
BEGIN:STANDARD
TZOFFSETFROM:-0400
TZOFFSETTO:-0500
TZNAME:EST
DTSTART:20221106T060000
END:STANDARD
BEGIN:DAYLIGHT
TZOFFSETFROM:-0500
TZOFFSETTO:-0400
TZNAME:EDT
DTSTART:20230312T070000
END:DAYLIGHT
BEGIN:STANDARD
TZOFFSETFROM:-0400
TZOFFSETTO:-0500
TZNAME:EST
DTSTART:20231105T060000
END:STANDARD
END:VTIMEZONE
BEGIN:VEVENT
DTSTART;TZID=America/New_York:20221104T090000
DTEND;TZID=America/New_York:20221104T160000
DTSTAMP:20260423T041114
CREATED:20221013T131442Z
LAST-MODIFIED:20221013T131442Z
UID:8265-1667552400-1667577600@www.tiffin.edu
SUMMARY:TiffinArts Drumset Day
DESCRIPTION:– Clinics\, masterclasses and one-on-one lessons with guest artists and TU faculty\n– Performances by TU students and faculty\n– FREE registration and lunch will be provided in the Cole Dining Hall \n– Sessions will cover a wide range of topics such as: \n\nRudiments\nTechnique\nCoordination\nReading Charts\nPlaying in a band\nDifferent drumming styles (Rock/Funk/Swing/Pop/etc)\nDrumset setups\nDrum Gear Talk\nand More!
URL:https://www.tiffin.edu/event/tiffinarts-drumset-day/
LOCATION:Performing Arts Lab\, 231 Miami St.\, Tiffin\, OH\, 44883\, United States
CATEGORIES:TiffinArts
END:VEVENT
BEGIN:VEVENT
DTSTART;TZID=America/New_York:20221103T170000
DTEND;TZID=America/New_York:20221103T190000
DTSTAMP:20260423T041114
CREATED:20221103T175445Z
LAST-MODIFIED:20221103T175445Z
UID:8480-1667494800-1667502000@www.tiffin.edu
SUMMARY:Pumpkin Smashing Party
DESCRIPTION:Join CAB from 5-7 pm today in Hayes Courtyard as they host a Pumpkin Smashing Party! Perfect way to burn off some stress and have some fun.
URL:https://www.tiffin.edu/event/pumpkin-smashing-party/
LOCATION:OH
END:VEVENT
BEGIN:VEVENT
DTSTART;TZID=America/New_York:20221102T163000
DTEND;TZID=America/New_York:20221102T190000
DTSTAMP:20260423T041114
CREATED:20221031T170200Z
LAST-MODIFIED:20221031T170200Z
UID:8444-1667406600-1667415600@www.tiffin.edu
SUMMARY:Dinner Karaoke
DESCRIPTION:Karaoke during the dinner service.
URL:https://www.tiffin.edu/event/dinner-karaoke/
LOCATION:OH
END:VEVENT
BEGIN:VEVENT
DTSTART;TZID=America/New_York:20221102T160000
DTEND;TZID=America/New_York:20221102T180000
DTSTAMP:20260423T041114
CREATED:20221031T173736Z
LAST-MODIFIED:20221031T173736Z
UID:8445-1667404800-1667412000@www.tiffin.edu
SUMMARY:Propel Ohio- Virtual Civic Engagement\, Voting\, and Student Leadership Conference
DESCRIPTION:Propel Ohio is a statewide student conference that promotes civic engagement\, voting\, and student leadership. Propel works to help participants find ways to make change in their communities.
URL:https://www.tiffin.edu/event/propel-ohio-virtual-civic-engagement-voting-and-student-leadership-conference/
LOCATION:OH
END:VEVENT
BEGIN:VEVENT
DTSTART;TZID=America/New_York:20221102T100000
DTEND;TZID=America/New_York:20221102T123000
DTSTAMP:20260423T041114
CREATED:20221012T174629Z
LAST-MODIFIED:20221012T174629Z
UID:8249-1667383200-1667392200@www.tiffin.edu
SUMMARY:TU School of Criminal Justice and Social Science and OCCJE Internship and Career Fair
DESCRIPTION:Come and meet many different businesses. This is an opportunity to obtain an internship\, part-time job\, full- time job\, and shadowing experience. All majors and degrees are welcome.
URL:https://www.tiffin.edu/event/tu-school-of-criminal-justice-and-social-science-and-occje-internship-and-career-fair/
LOCATION:OH
END:VEVENT
BEGIN:VEVENT
DTSTART;VALUE=DATE:20221102
DTEND;VALUE=DATE:20221103
DTSTAMP:20260423T041114
CREATED:20221017T172744Z
LAST-MODIFIED:20221017T172744Z
UID:8303-1667347200-1667433599@www.tiffin.edu
SUMMARY:Registration for Spring 2023 Begins (Freshmen)
DESCRIPTION:Registration for Spring 2023 Begins (Freshmen)- Main Campus
URL:https://www.tiffin.edu/event/registration-for-spring-2023-begins-freshmen/
LOCATION:OH
CATEGORIES:Academics
END:VEVENT
BEGIN:VEVENT
DTSTART;VALUE=DATE:20221102
DTEND;VALUE=DATE:20221103
DTSTAMP:20260423T041114
CREATED:20220212T011203Z
LAST-MODIFIED:20220212T011203Z
UID:4411-1667347200-1667433599@www.tiffin.edu
SUMMARY:Registration for Spring 2023 - Freshmen
DESCRIPTION:
URL:https://www.tiffin.edu/event/registration-for-spring-2023-freshmen/
LOCATION:OH
CATEGORIES:Academics
END:VEVENT
BEGIN:VEVENT
DTSTART;TZID=America/New_York:20221031T190000
DTEND;TZID=America/New_York:20221031T210000
DTSTAMP:20260423T041114
CREATED:20221019T173729Z
LAST-MODIFIED:20221019T173729Z
UID:8354-1667242800-1667250000@www.tiffin.edu
SUMMARY:Halloween Game Night
DESCRIPTION:
URL:https://www.tiffin.edu/event/halloween-game-night/
LOCATION:OH
END:VEVENT
BEGIN:VEVENT
DTSTART;TZID=America/New_York:20221031T090000
DTEND;TZID=America/New_York:20221031T170000
DTSTAMP:20260423T041114
CREATED:20221012T174332Z
LAST-MODIFIED:20221012T174332Z
UID:8248-1667206800-1667235600@www.tiffin.edu
SUMMARY:Halloween Trail
DESCRIPTION:
URL:https://www.tiffin.edu/event/halloween-trail/
LOCATION:OH
END:VEVENT
BEGIN:VEVENT
DTSTART;TZID=America/New_York:20221031T090000
DTEND;TZID=America/New_York:20221031T160000
DTSTAMP:20260423T041114
CREATED:20221024T164744Z
LAST-MODIFIED:20221024T164744Z
UID:8377-1667206800-1667232000@www.tiffin.edu
SUMMARY:Trick or Treat Trail
DESCRIPTION:Enjoy the campus wide Trick or Treat Trail
URL:https://www.tiffin.edu/event/trick-or-treat-trail/
LOCATION:OH
END:VEVENT
BEGIN:VEVENT
DTSTART;VALUE=DATE:20221031
DTEND;VALUE=DATE:20221101
DTSTAMP:20260423T041114
CREATED:20221017T172653Z
LAST-MODIFIED:20221017T172653Z
UID:8302-1667174400-1667260799@www.tiffin.edu
SUMMARY:Registration for Spring 2023 Begins (Sophomores)
DESCRIPTION:Registration for Spring 2023 Begins (Sophomores)- Main Campus
URL:https://www.tiffin.edu/event/registration-for-spring-2023-begins-sophomores/
LOCATION:OH
END:VEVENT
BEGIN:VEVENT
DTSTART;VALUE=DATE:20221031
DTEND;VALUE=DATE:20221101
DTSTAMP:20260423T041114
CREATED:20220212T011139Z
LAST-MODIFIED:20220212T011139Z
UID:4410-1667174400-1667260799@www.tiffin.edu
SUMMARY:Registration for Spring 2023 - Sophomores
DESCRIPTION:
URL:https://www.tiffin.edu/event/registration-for-spring-2023-sophomores/
LOCATION:OH
CATEGORIES:Academics
END:VEVENT
BEGIN:VEVENT
DTSTART;TZID=America/New_York:20221030T170000
DTEND;TZID=America/New_York:20221030T190000
DTSTAMP:20260423T041114
CREATED:20221012T173719Z
LAST-MODIFIED:20221012T173719Z
UID:8247-1667149200-1667156400@www.tiffin.edu
SUMMARY:Greek Community Trick or Treat
DESCRIPTION:Celebrate Halloween with the Greeks!
URL:https://www.tiffin.edu/event/greek-community-trick-or-treat/
LOCATION:OH
END:VEVENT
BEGIN:VEVENT
DTSTART;TZID=America/New_York:20221030T120000
DTEND;TZID=America/New_York:20221030T140000
DTSTAMP:20260423T041114
CREATED:20221024T164700Z
LAST-MODIFIED:20221024T164700Z
UID:8375-1667131200-1667138400@www.tiffin.edu
SUMMARY:CAB's Harvest Festival
DESCRIPTION:CAB’s Harvest Festival at Riehm Farms
URL:https://www.tiffin.edu/event/cabs-harvest-festival/
LOCATION:OH
END:VEVENT
BEGIN:VEVENT
DTSTART;TZID=America/New_York:20221029T190000
DTEND;TZID=America/New_York:20221029T220000
DTSTAMP:20260423T041114
CREATED:20221019T173649Z
LAST-MODIFIED:20221019T173649Z
UID:8353-1667070000-1667080800@www.tiffin.edu
SUMMARY:Alpha Iota's Spook-Tacular Evening
DESCRIPTION:
URL:https://www.tiffin.edu/event/alpha-iotas-spook-tacular-evening/
LOCATION:OH
END:VEVENT
BEGIN:VEVENT
DTSTART;TZID=America/New_York:20221028T190000
DTEND;TZID=America/New_York:20221028T210000
DTSTAMP:20260423T041114
CREATED:20220830T133009Z
LAST-MODIFIED:20220830T133009Z
UID:7984-1666983600-1666990800@www.tiffin.edu
SUMMARY:Guest Artist: Regina Sayles
DESCRIPTION:Enjoy a performance from our guest artist Regina Sayles in the Marion Center.
URL:https://www.tiffin.edu/event/guest-artist-regina-sayles/
LOCATION:OH
CATEGORIES:TiffinArts
END:VEVENT
BEGIN:VEVENT
DTSTART;TZID=America/New_York:20221028T183000
DTEND;TZID=America/New_York:20221028T183000
DTSTAMP:20260423T041114
CREATED:20221024T164544Z
LAST-MODIFIED:20221024T164544Z
UID:8374-1666981800-1666981800@www.tiffin.edu
SUMMARY:Night at Mansfield Prison
DESCRIPTION:*Discounted Tickets*
URL:https://www.tiffin.edu/event/night-at-mansfield-prison/
LOCATION:OH
END:VEVENT
BEGIN:VEVENT
DTSTART;TZID=America/New_York:20221027T200000
DTEND;TZID=America/New_York:20221027T200000
DTSTAMP:20260423T041114
CREATED:20221024T164418Z
LAST-MODIFIED:20221024T164418Z
UID:8373-1666900800-1666900800@www.tiffin.edu
SUMMARY:Halloween Movie Night
DESCRIPTION:Enjoy “Ghostbuster: Afterlife” in Osceola
URL:https://www.tiffin.edu/event/halloween-movie-night/
LOCATION:OH
END:VEVENT
BEGIN:VEVENT
DTSTART;TZID=America/New_York:20221027T110000
DTEND;TZID=America/New_York:20221027T130000
DTSTAMP:20260423T041114
CREATED:20221012T173608Z
LAST-MODIFIED:20221012T173608Z
UID:8246-1666868400-1666875600@www.tiffin.edu
SUMMARY:Halloween Around the World
DESCRIPTION:Try some Halloween treats from around the world.
URL:https://www.tiffin.edu/event/halloween-around-the-world/
LOCATION:OH
END:VEVENT
BEGIN:VEVENT
DTSTART;TZID=America/New_York:20221026T180000
DTEND;TZID=America/New_York:20221026T210000
DTSTAMP:20260423T041114
CREATED:20221024T165415Z
LAST-MODIFIED:20221024T165415Z
UID:8379-1666807200-1666818000@www.tiffin.edu
SUMMARY:Circle K Game Night at Kiwanis Manor
DESCRIPTION:Join Circle K this Wednesday night from 6-9 pm for GAME NIGHT at the Kiwanis Manor in Tiffin (7 West Market St- just down from campus by the bridge.)
URL:https://www.tiffin.edu/event/circle-k-game-night-at-kiwanis-manor/
LOCATION:OH
END:VEVENT
BEGIN:VEVENT
DTSTART;TZID=America/New_York:20221026T180000
DTEND;TZID=America/New_York:20221026T210000
DTSTAMP:20260423T041114
CREATED:20221012T173508Z
LAST-MODIFIED:20221012T173508Z
UID:8244-1666807200-1666818000@www.tiffin.edu
SUMMARY:CAB's Spooky Night Paint Event
DESCRIPTION:Paint a scary picture at CAB’s Spooky Night Paint Event!
URL:https://www.tiffin.edu/event/cabs-spooky-night-paint-event/
LOCATION:OH
END:VEVENT
BEGIN:VEVENT
DTSTART;TZID=America/New_York:20221026T110000
DTEND;TZID=America/New_York:20221026T140000
DTSTAMP:20260423T041114
CREATED:20221019T173606Z
LAST-MODIFIED:20221019T173606Z
UID:8352-1666782000-1666792800@www.tiffin.edu
SUMMARY:Harry Potter Themed Lunch with AVI
DESCRIPTION:Harry Potter themed lunch.
URL:https://www.tiffin.edu/event/harry-potter-themed-lunch-with-avi/
LOCATION:OH
END:VEVENT
BEGIN:VEVENT
DTSTART;VALUE=DATE:20221026
DTEND;VALUE=DATE:20221027
DTSTAMP:20260423T041114
CREATED:20221017T172533Z
LAST-MODIFIED:20221017T172533Z
UID:8301-1666742400-1666828799@www.tiffin.edu
SUMMARY:Registration for Spring 2023 Begins (Juniors)
DESCRIPTION:Registration for Spring 2023 Begins (Juniors)- Main Campus
URL:https://www.tiffin.edu/event/registration-for-spring-2023-begins-juniors/
LOCATION:OH
END:VEVENT
BEGIN:VEVENT
DTSTART;VALUE=DATE:20221026
DTEND;VALUE=DATE:20221027
DTSTAMP:20260423T041114
CREATED:20221017T170926Z
LAST-MODIFIED:20221017T170926Z
UID:8299-1666742400-1666828799@www.tiffin.edu
SUMMARY:Last Day to Withdraw Without a Failing Grade
DESCRIPTION:Last Day to Withdraw Without a Failing Grade- Main Campus
URL:https://www.tiffin.edu/event/last-day-to-withdraw-without-a-failing-grade/
LOCATION:OH
CATEGORIES:Academics
END:VEVENT
BEGIN:VEVENT
DTSTART;VALUE=DATE:20221026
DTEND;VALUE=DATE:20221027
DTSTAMP:20260423T041114
CREATED:20220212T011109Z
LAST-MODIFIED:20220212T011109Z
UID:4409-1666742400-1666828799@www.tiffin.edu
SUMMARY:Registration for Spring 2023 - Juniors
DESCRIPTION:
URL:https://www.tiffin.edu/event/registration-for-spring-2023-juniors/
LOCATION:OH
CATEGORIES:Academics
END:VEVENT
BEGIN:VEVENT
DTSTART;VALUE=DATE:20221026
DTEND;VALUE=DATE:20221027
DTSTAMP:20260423T041114
CREATED:20220212T011052Z
LAST-MODIFIED:20220212T011052Z
UID:4408-1666742400-1666828799@www.tiffin.edu
SUMMARY:Last Day to WD W/O a Failing Grade - On Campus
DESCRIPTION:
URL:https://www.tiffin.edu/event/last-day-to-wd-w-o-a-failing-grade-on-campus/
LOCATION:OH
CATEGORIES:Academics
END:VEVENT
BEGIN:VEVENT
DTSTART;TZID=America/New_York:20221025T190000
DTEND;TZID=America/New_York:20221025T210000
DTSTAMP:20260423T041114
CREATED:20221019T173459Z
LAST-MODIFIED:20221019T173459Z
UID:8351-1666724400-1666731600@www.tiffin.edu
SUMMARY:THHA Spooky Pumpkin Painting and Contest
DESCRIPTION:
URL:https://www.tiffin.edu/event/thha-spooky-pumpkin-painting-and-contest/
LOCATION:OH
END:VEVENT
BEGIN:VEVENT
DTSTART;TZID=America/New_York:20221024T200000
DTEND;TZID=America/New_York:20221024T200000
DTSTAMP:20260423T041114
CREATED:20221024T164246Z
LAST-MODIFIED:20221024T164246Z
UID:8372-1666641600-1666641600@www.tiffin.edu
SUMMARY:Virtual Horror Movie Night via TUCinema
DESCRIPTION:Virtual showing of “The Black Phone” via TUCinema.
URL:https://www.tiffin.edu/event/virtual-horror-movie-night-via-tucinema/
LOCATION:OH
END:VEVENT
BEGIN:VEVENT
DTSTART;TZID=America/New_York:20221024T160000
DTEND;TZID=America/New_York:20221024T180000
DTSTAMP:20260423T041114
CREATED:20221019T173407Z
LAST-MODIFIED:20221019T173407Z
UID:8350-1666627200-1666634400@www.tiffin.edu
SUMMARY:DIY Pumpkin Carving
DESCRIPTION:Pumpkin carving and decorating. Watch your email for more details.
URL:https://www.tiffin.edu/event/diy-pumpkin-carving/
LOCATION:OH
END:VEVENT
BEGIN:VEVENT
DTSTART;VALUE=DATE:20221024
DTEND;VALUE=DATE:20221025
DTSTAMP:20260423T041114
CREATED:20221017T172439Z
LAST-MODIFIED:20221017T172439Z
UID:8300-1666569600-1666655999@www.tiffin.edu
SUMMARY:Registration for Spring 2023 Begins (Seniors)
DESCRIPTION:Registration for Spring 2023 Begins (Seniors)- Main Campus
URL:https://www.tiffin.edu/event/registration-for-spring-2023-begins-seniors/
LOCATION:OH
CATEGORIES:Academics
END:VEVENT
END:VCALENDAR