BEGIN:VCALENDAR
VERSION:2.0
PRODID:-//Tiffin University - ECPv6.15.18//NONSGML v1.0//EN
CALSCALE:GREGORIAN
METHOD:PUBLISH
X-WR-CALNAME:Tiffin University
X-ORIGINAL-URL:https://www.tiffin.edu
X-WR-CALDESC:Events for Tiffin University
REFRESH-INTERVAL;VALUE=DURATION:PT1H
X-Robots-Tag:noindex
X-PUBLISHED-TTL:PT1H
BEGIN:VTIMEZONE
TZID:America/New_York
BEGIN:DAYLIGHT
TZOFFSETFROM:-0500
TZOFFSETTO:-0400
TZNAME:EDT
DTSTART:20220313T070000
END:DAYLIGHT
BEGIN:STANDARD
TZOFFSETFROM:-0400
TZOFFSETTO:-0500
TZNAME:EST
DTSTART:20221106T060000
END:STANDARD
BEGIN:DAYLIGHT
TZOFFSETFROM:-0500
TZOFFSETTO:-0400
TZNAME:EDT
DTSTART:20230312T070000
END:DAYLIGHT
BEGIN:STANDARD
TZOFFSETFROM:-0400
TZOFFSETTO:-0500
TZNAME:EST
DTSTART:20231105T060000
END:STANDARD
BEGIN:DAYLIGHT
TZOFFSETFROM:-0500
TZOFFSETTO:-0400
TZNAME:EDT
DTSTART:20240310T070000
END:DAYLIGHT
BEGIN:STANDARD
TZOFFSETFROM:-0400
TZOFFSETTO:-0500
TZNAME:EST
DTSTART:20241103T060000
END:STANDARD
END:VTIMEZONE
BEGIN:VEVENT
DTSTART;VALUE=DATE:20231023
DTEND;VALUE=DATE:20231024
DTSTAMP:20260423T114420
CREATED:20230524T013212Z
LAST-MODIFIED:20230524T014213Z
UID:9922-1698019200-1698105599@www.tiffin.edu
SUMMARY:Registration for Spring 2024- Seniors
DESCRIPTION:
URL:https://www.tiffin.edu/event/registration-for-spring-2024-seniors/
END:VEVENT
BEGIN:VEVENT
DTSTART;TZID=America/New_York:20231023T110000
DTEND;TZID=America/New_York:20231023T140000
DTSTAMP:20260423T114420
CREATED:20231018T175853Z
LAST-MODIFIED:20231018T175853Z
UID:10925-1698058800-1698069600@www.tiffin.edu
SUMMARY:Halloween Around the World
DESCRIPTION:Try some snacks from around the world with Student Government!
URL:https://www.tiffin.edu/event/halloween-around-the-world-2/
LOCATION:Gillmor Student Center\, 155 Miami St.\, Tiffin\, 44883\, United States
END:VEVENT
BEGIN:VEVENT
DTSTART;VALUE=DATE:20231025
DTEND;VALUE=DATE:20231026
DTSTAMP:20260423T114420
CREATED:20230524T013026Z
LAST-MODIFIED:20230524T013026Z
UID:9921-1698192000-1698278399@www.tiffin.edu
SUMMARY:Last Day to Withdraw Without a Failing Grade
DESCRIPTION:
URL:https://www.tiffin.edu/event/last-day-to-withdraw-without-a-failing-grade-3/
END:VEVENT
BEGIN:VEVENT
DTSTART;VALUE=DATE:20231025
DTEND;VALUE=DATE:20231026
DTSTAMP:20260423T114420
CREATED:20230524T013320Z
LAST-MODIFIED:20230524T013320Z
UID:9923-1698192000-1698278399@www.tiffin.edu
SUMMARY:Registration for Spring 2024- Juniors
DESCRIPTION:
URL:https://www.tiffin.edu/event/registration-for-spring-2024-juniors/
END:VEVENT
BEGIN:VEVENT
DTSTART;TZID=America/New_York:20231026T180000
DTEND;TZID=America/New_York:20231026T200000
DTSTAMP:20260423T114420
CREATED:20230821T201428Z
LAST-MODIFIED:20230821T201428Z
UID:10528-1698343200-1698350400@www.tiffin.edu
SUMMARY:Greenville\, SC Alumni Reception
DESCRIPTION:Gather with fellow Dragons to support current students and enjoy drinks and small bites in Greenville\, South Carolina. \nRegister Now. 
URL:https://www.tiffin.edu/event/greenville-sc-alumni-reception/
CATEGORIES:Alumni
END:VEVENT
BEGIN:VEVENT
DTSTART;TZID=America/New_York:20231027T100000
DTEND;TZID=America/New_York:20231027T120000
DTSTAMP:20260423T114420
CREATED:20230815T183918Z
LAST-MODIFIED:20230815T183918Z
UID:10440-1698400800-1698408000@www.tiffin.edu
SUMMARY:LIFE@TU
DESCRIPTION:Seneca County Myths\, Legends & Hauntings \nSpeaker: Ms. Lisa Swickard
URL:https://www.tiffin.edu/event/lifetu-8/
LOCATION:Osceola Theatre
CATEGORIES:Engaged Fridays
END:VEVENT
BEGIN:VEVENT
DTSTART;TZID=America/New_York:20231027T100000
DTEND;TZID=America/New_York:20231027T120000
DTSTAMP:20260423T114420
CREATED:20230815T184003Z
LAST-MODIFIED:20230815T184003Z
UID:10441-1698400800-1698408000@www.tiffin.edu
SUMMARY:3D Printer Workshop
DESCRIPTION:Have you ever wanted to turn an idea into a small physical object? Now you can! In this workshop\, we will learn how to design basic objects and then turn those designs into physical\, 3D-printed trinkets. Tinker with the library’s new resin 3D printer and TinkerCAD and bring your imagination to life!
URL:https://www.tiffin.edu/event/3d-printer-workshop-5/
LOCATION:Pfeiffer Library
CATEGORIES:Engaged Fridays
END:VEVENT
BEGIN:VEVENT
DTSTART;TZID=America/New_York:20231027T110000
DTEND;TZID=America/New_York:20231027T120000
DTSTAMP:20260423T114420
CREATED:20230815T184043Z
LAST-MODIFIED:20230815T184043Z
UID:10442-1698404400-1698408000@www.tiffin.edu
SUMMARY:Science Department Alumni Speaker
DESCRIPTION:In person presentation by a forensic science\, exercise science or chemistry alum.
URL:https://www.tiffin.edu/event/science-department-alumni-speaker-8/
LOCATION:Center for Science and Technology
CATEGORIES:Engaged Fridays
END:VEVENT
BEGIN:VEVENT
DTSTART;TZID=America/New_York:20231027T153000
DTEND;TZID=America/New_York:20231027T170000
DTSTAMP:20260423T114420
CREATED:20230815T184128Z
LAST-MODIFIED:20230815T184128Z
UID:10443-1698420600-1698426000@www.tiffin.edu
SUMMARY:Painting Workshop
DESCRIPTION:Channel your creativity! Hosted in the library conference room every other Friday\, our painting workshops are a great way to unwind after a long week. All materials are provided – including a wealth of miniatures printed in-house on our resin 3D printer! \nRegister Now. 
URL:https://www.tiffin.edu/event/painting-workshop-5/
LOCATION:Pfeiffer Library
CATEGORIES:Engaged Fridays
END:VEVENT
BEGIN:VEVENT
DTSTART;TZID=America/New_York:20231029T150000
DTEND;TZID=America/New_York:20231029T170000
DTSTAMP:20260423T114420
CREATED:20231018T181732Z
LAST-MODIFIED:20231018T181732Z
UID:10928-1698591600-1698598800@www.tiffin.edu
SUMMARY:Greek Council Community Trick or Treat
DESCRIPTION:
URL:https://www.tiffin.edu/event/greek-council-community-trick-or-treat/
END:VEVENT
BEGIN:VEVENT
DTSTART;VALUE=DATE:20231030
DTEND;VALUE=DATE:20231031
DTSTAMP:20260423T114420
CREATED:20230524T014535Z
LAST-MODIFIED:20230524T014535Z
UID:9924-1698624000-1698710399@www.tiffin.edu
SUMMARY:Registration for Spring 2024- Sophomores
DESCRIPTION:
URL:https://www.tiffin.edu/event/registration-for-spring-2024-sophomores/
END:VEVENT
BEGIN:VEVENT
DTSTART;VALUE=DATE:20231101
DTEND;VALUE=DATE:20231102
DTSTAMP:20260423T114420
CREATED:20230524T014723Z
LAST-MODIFIED:20230612T130059Z
UID:9925-1698796800-1698883199@www.tiffin.edu
SUMMARY:Registration for Spring 2024- Freshmen
DESCRIPTION:
URL:https://www.tiffin.edu/event/registration-for-spring-2024/
END:VEVENT
BEGIN:VEVENT
DTSTART;TZID=America/New_York:20231102T170000
DTEND;TZID=America/New_York:20231102T190000
DTSTAMP:20260423T114420
CREATED:20230515T201031Z
LAST-MODIFIED:20230515T201031Z
UID:9869-1698944400-1698951600@www.tiffin.edu
SUMMARY:Gilbert\, AZ Alumni Reception
DESCRIPTION:Join Tiffin University and other local alumni for drinks and small bites in Gilbert\, AZ on Thursday\, November 2. \nRegister Now. 
URL:https://www.tiffin.edu/event/gilbert-az-alumni-reception/
CATEGORIES:Alumni
END:VEVENT
BEGIN:VEVENT
DTSTART;TZID=America/New_York:20231103T090000
DTEND;TZID=America/New_York:20231103T100000
DTSTAMP:20260423T114420
CREATED:20231103T190407Z
LAST-MODIFIED:20231103T190407Z
UID:11009-1699002000-1699005600@www.tiffin.edu
SUMMARY:ASSET- Assembly for Staff Engagement
DESCRIPTION:Monthly ASSET Zoom Meeting
URL:https://www.tiffin.edu/event/asset-assembly-for-staff-engagement/
END:VEVENT
BEGIN:VEVENT
DTSTART;TZID=America/New_York:20231103T093000
DTEND;TZID=America/New_York:20231103T150000
DTSTAMP:20260423T114420
CREATED:20230815T184737Z
LAST-MODIFIED:20230815T184737Z
UID:10449-1699003800-1699023600@www.tiffin.edu
SUMMARY:November Open House
DESCRIPTION:Gillmor Student Center\n155 Miami St\nTiffin\, OH 44883\nUnited States \nSee what TU is all about! What to expect: \n– Campus Tour\n– Admissions Presentation\n– Student Panel\n– Faculty Talks\n– Resource Fair\n– Free parking\n– Lunch on us \nSee you there! \n\nRegister Now. 
URL:https://www.tiffin.edu/event/november-open-house/
LOCATION:Gillmor Student Center\, 155 Miami St.\, Tiffin\, 44883\, United States
CATEGORIES:Engaged Fridays
END:VEVENT
BEGIN:VEVENT
DTSTART;TZID=America/New_York:20231103T100000
DTEND;TZID=America/New_York:20231103T120000
DTSTAMP:20260423T114420
CREATED:20230815T184303Z
LAST-MODIFIED:20230815T184303Z
UID:10444-1699005600-1699012800@www.tiffin.edu
SUMMARY:LIFE@TU
DESCRIPTION:Armchair Interview: Veterans’ Stories \nSpeaker: Mr. Dale Thornton\, Mr. Mark Scheid and Mr. Don Nibblett
URL:https://www.tiffin.edu/event/lifetu-9/
LOCATION:Osceola Theatre
CATEGORIES:Engaged Fridays
END:VEVENT
BEGIN:VEVENT
DTSTART;TZID=America/New_York:20231103T100000
DTEND;TZID=America/New_York:20231103T120000
DTSTAMP:20260423T114420
CREATED:20230815T184400Z
LAST-MODIFIED:20230815T184400Z
UID:10445-1699005600-1699012800@www.tiffin.edu
SUMMARY:Poster/Cricut Workshop
DESCRIPTION:Are you looking for a way to elevate your living space? Maybe bring some flair into your classroom? Now you can! In this workshop\, we will learn how to use a poster printer to transform your big ideas into even bigger wall prints and how to translate patterns into pieces of art on the Cricut machine. No experience necessary – just bring your creativity! \nRegister Now. 
URL:https://www.tiffin.edu/event/poster-cricut-workshop-5/
LOCATION:Pfeiffer Library
CATEGORIES:Engaged Fridays
END:VEVENT
BEGIN:VEVENT
DTSTART;TZID=America/New_York:20231103T100000
DTEND;TZID=America/New_York:20231103T120000
DTSTAMP:20260423T114420
CREATED:20230815T184438Z
LAST-MODIFIED:20230815T184438Z
UID:10446-1699005600-1699012800@www.tiffin.edu
SUMMARY:Science Department Alumni Speaker
DESCRIPTION:In person presentation by a forensic science\, exercise science or chemistry alum.
URL:https://www.tiffin.edu/event/science-department-alumni-speaker-9/
LOCATION:Center for Science and Technology
CATEGORIES:Engaged Fridays
END:VEVENT
BEGIN:VEVENT
DTSTART;TZID=America/New_York:20231103T110000
DTEND;TZID=America/New_York:20231103T120000
DTSTAMP:20260423T114420
CREATED:20231018T181257Z
LAST-MODIFIED:20231018T181257Z
UID:10927-1699009200-1699012800@www.tiffin.edu
SUMMARY:Internship Search Workshop
DESCRIPTION:This virtual event is to help gain ideas on the steps involved in applying for and getting internships.
URL:https://www.tiffin.edu/event/internship-search-workshop-2/
END:VEVENT
BEGIN:VEVENT
DTSTART;TZID=America/New_York:20231103T120000
DTEND;TZID=America/New_York:20231103T130000
DTSTAMP:20260423T114420
CREATED:20230815T184516Z
LAST-MODIFIED:20230815T184516Z
UID:10447-1699012800-1699016400@www.tiffin.edu
SUMMARY:Education Series
DESCRIPTION:Assessment Best Practices – Virtual event
URL:https://www.tiffin.edu/event/education-series-5/
CATEGORIES:Engaged Fridays
END:VEVENT
BEGIN:VEVENT
DTSTART;TZID=America/New_York:20231103T130000
DTEND;TZID=America/New_York:20231103T170000
DTSTAMP:20260423T114420
CREATED:20230815T184615Z
LAST-MODIFIED:20230815T184615Z
UID:10448-1699016400-1699030800@www.tiffin.edu
SUMMARY:Dungeons and Dragons: Adventurers’ Guild
DESCRIPTION:Have you ever wanted to be the hero of an epic story? Now you can be – join us for an afternoon of cooperative storytelling and tabletop roleplaying fun! Each session is a self-contained adventure designed for about six players\, hosted in the library conference room\, and led by an experienced dungeon master. Registration is required\, but prior experience is not – we happily welcome and support brand-new players. Will you play a cunning rogue\, the mastermind of a great heist? Or perhaps a learned wizard\, who has read all of the books in our collection (and then some!)? Engage your inner creative dragon and anything is possible! \nRegister Now. 
URL:https://www.tiffin.edu/event/dungeons-and-dragons-adventurers-guild-5/
LOCATION:Pfeiffer Library
CATEGORIES:Engaged Fridays
END:VEVENT
BEGIN:VEVENT
DTSTART;TZID=America/New_York:20231103T190000
DTEND;TZID=America/New_York:20231103T210000
DTSTAMP:20260423T114420
CREATED:20231103T185007Z
LAST-MODIFIED:20231103T185007Z
UID:11007-1699038000-1699045200@www.tiffin.edu
SUMMARY:Commercial Small Group Showcase
DESCRIPTION:The first commercial music small group showcase! Come see all the music groups on campus!
URL:https://www.tiffin.edu/event/commercial-small-group-showcase/
LOCATION:Marion Center
END:VEVENT
BEGIN:VEVENT
DTSTART;TZID=America/New_York:20231103T190000
DTEND;TZID=America/New_York:20231103T210000
DTSTAMP:20260423T114420
CREATED:20231103T185627Z
LAST-MODIFIED:20231103T185627Z
UID:11008-1699038000-1699045200@www.tiffin.edu
SUMMARY:Special Forum with President Schumacher
DESCRIPTION:An open forum with special guests Dr. Stacey Floyd\, Dr. Michelle Maus\, and President Lillian Schumacher.
URL:https://www.tiffin.edu/event/special-forum-with-president-schumacher/
LOCATION:Chisholm Auditorium
END:VEVENT
BEGIN:VEVENT
DTSTART;VALUE=DATE:20231108
DTEND;VALUE=DATE:20231109
DTSTAMP:20260423T114420
CREATED:20230612T130215Z
LAST-MODIFIED:20230612T130215Z
UID:10014-1699401600-1699487999@www.tiffin.edu
SUMMARY:Athletic Progress Reports
DESCRIPTION:
URL:https://www.tiffin.edu/event/athletic-progress-reports-3/
END:VEVENT
BEGIN:VEVENT
DTSTART;TZID=America/New_York:20231110T100000
DTEND;TZID=America/New_York:20231110T120000
DTSTAMP:20260423T114420
CREATED:20230815T184916Z
LAST-MODIFIED:20230815T184916Z
UID:10450-1699610400-1699617600@www.tiffin.edu
SUMMARY:3D Printer Workshop
DESCRIPTION:Have you ever wanted to turn an idea into a small physical object? Now you can! In this workshop\, we will learn how to design basic objects and then turn those designs into physical\, 3D-printed trinkets. Tinker with the library’s new resin 3D printer and TinkerCAD and bring your imagination to life! \nRegister Now. 
URL:https://www.tiffin.edu/event/3d-printer-workshop-6/
LOCATION:Pfeiffer Library
CATEGORIES:Engaged Fridays
END:VEVENT
BEGIN:VEVENT
DTSTART;TZID=America/New_York:20231110T100000
DTEND;TZID=America/New_York:20231110T123000
DTSTAMP:20260423T114420
CREATED:20230501T165919Z
LAST-MODIFIED:20230502T140922Z
UID:9755-1699610400-1699619400@www.tiffin.edu
SUMMARY:OCCJE Career Fair
DESCRIPTION:Join us for a Career Fair for Criminal Justice & Social Science students.
URL:https://www.tiffin.edu/event/career-fair-for-cjss/
CATEGORIES:Engaged Fridays
END:VEVENT
BEGIN:VEVENT
DTSTART;TZID=America/New_York:20231110T100000
DTEND;TZID=America/New_York:20231110T140000
DTSTAMP:20260423T114420
CREATED:20230815T185007Z
LAST-MODIFIED:20230815T185007Z
UID:10451-1699610400-1699624800@www.tiffin.edu
SUMMARY:LIFE@TU
DESCRIPTION:Architecture & Restoration: The Frost Parkway Project \nSpeaker: Mr. Andrew Kalnow and Mr. John Huss
URL:https://www.tiffin.edu/event/lifetu-10/
CATEGORIES:Engaged Fridays
END:VEVENT
BEGIN:VEVENT
DTSTART;TZID=America/New_York:20231110T110000
DTEND;TZID=America/New_York:20231110T120000
DTSTAMP:20260423T114420
CREATED:20230118T183504Z
LAST-MODIFIED:20230118T183504Z
UID:9059-1699614000-1699617600@www.tiffin.edu
SUMMARY:Engaged Friday: First-Gen and a Friend
DESCRIPTION:In honor of National First-Generation College Student day\, First-Gen Dragons will be hosting First-Gen and a Friend on November 10th\, 2023 from 11:00 am-12:00 pm in Osceola Theater. This event is open to all students of all major and will include a keynote address and a Q&A panel with TU alumni from diverse backgrounds and careers!
URL:https://www.tiffin.edu/event/engaged-friday-first-gen-and-a-friend/
END:VEVENT
BEGIN:VEVENT
DTSTART;TZID=America/New_York:20231110T110000
DTEND;TZID=America/New_York:20231110T120000
DTSTAMP:20260423T114420
CREATED:20230815T185141Z
LAST-MODIFIED:20230815T185141Z
UID:10453-1699614000-1699617600@www.tiffin.edu
SUMMARY:Science Department Alumni Speaker
DESCRIPTION:In person presentation by a forensic science\, exercise science or chemistry alum.
URL:https://www.tiffin.edu/event/science-department-alumni-speaker-10/
LOCATION:Center for Science and Technology
CATEGORIES:Engaged Fridays
END:VEVENT
BEGIN:VEVENT
DTSTART;TZID=America/New_York:20231110T110000
DTEND;TZID=America/New_York:20231110T130000
DTSTAMP:20260423T114420
CREATED:20230424T150418Z
LAST-MODIFIED:20230424T150418Z
UID:9714-1699614000-1699621200@www.tiffin.edu
SUMMARY:First-Gen and a Friend
DESCRIPTION:
URL:https://www.tiffin.edu/event/first-gen-and-a-friend/
LOCATION:Osceola Theatre
CATEGORIES:Engaged Fridays
END:VEVENT
END:VCALENDAR