BEGIN:VCALENDAR
VERSION:2.0
PRODID:-//Tiffin University - ECPv6.15.18//NONSGML v1.0//EN
CALSCALE:GREGORIAN
METHOD:PUBLISH
X-WR-CALNAME:Tiffin University
X-ORIGINAL-URL:https://www.tiffin.edu
X-WR-CALDESC:Events for Tiffin University
REFRESH-INTERVAL;VALUE=DURATION:PT1H
X-Robots-Tag:noindex
X-PUBLISHED-TTL:PT1H
BEGIN:VTIMEZONE
TZID:America/New_York
BEGIN:DAYLIGHT
TZOFFSETFROM:-0500
TZOFFSETTO:-0400
TZNAME:EDT
DTSTART:20220313T070000
END:DAYLIGHT
BEGIN:STANDARD
TZOFFSETFROM:-0400
TZOFFSETTO:-0500
TZNAME:EST
DTSTART:20221106T060000
END:STANDARD
BEGIN:DAYLIGHT
TZOFFSETFROM:-0500
TZOFFSETTO:-0400
TZNAME:EDT
DTSTART:20230312T070000
END:DAYLIGHT
BEGIN:STANDARD
TZOFFSETFROM:-0400
TZOFFSETTO:-0500
TZNAME:EST
DTSTART:20231105T060000
END:STANDARD
BEGIN:DAYLIGHT
TZOFFSETFROM:-0500
TZOFFSETTO:-0400
TZNAME:EDT
DTSTART:20240310T070000
END:DAYLIGHT
BEGIN:STANDARD
TZOFFSETFROM:-0400
TZOFFSETTO:-0500
TZNAME:EST
DTSTART:20241103T060000
END:STANDARD
END:VTIMEZONE
BEGIN:VEVENT
DTSTART;TZID=America/New_York:20231110T100000
DTEND;TZID=America/New_York:20231110T120000
DTSTAMP:20260425T080110
CREATED:20230815T184916Z
LAST-MODIFIED:20230815T184916Z
UID:10450-1699610400-1699617600@www.tiffin.edu
SUMMARY:3D Printer Workshop
DESCRIPTION:Have you ever wanted to turn an idea into a small physical object? Now you can! In this workshop\, we will learn how to design basic objects and then turn those designs into physical\, 3D-printed trinkets. Tinker with the library’s new resin 3D printer and TinkerCAD and bring your imagination to life! \nRegister Now. 
URL:https://www.tiffin.edu/event/3d-printer-workshop-6/
LOCATION:Pfeiffer Library
CATEGORIES:Engaged Fridays
END:VEVENT
BEGIN:VEVENT
DTSTART;TZID=America/New_York:20231110T100000
DTEND;TZID=America/New_York:20231110T123000
DTSTAMP:20260425T080110
CREATED:20230501T165919Z
LAST-MODIFIED:20230502T140922Z
UID:9755-1699610400-1699619400@www.tiffin.edu
SUMMARY:OCCJE Career Fair
DESCRIPTION:Join us for a Career Fair for Criminal Justice & Social Science students.
URL:https://www.tiffin.edu/event/career-fair-for-cjss/
CATEGORIES:Engaged Fridays
END:VEVENT
BEGIN:VEVENT
DTSTART;TZID=America/New_York:20231110T100000
DTEND;TZID=America/New_York:20231110T140000
DTSTAMP:20260425T080110
CREATED:20230815T185007Z
LAST-MODIFIED:20230815T185007Z
UID:10451-1699610400-1699624800@www.tiffin.edu
SUMMARY:LIFE@TU
DESCRIPTION:Architecture & Restoration: The Frost Parkway Project \nSpeaker: Mr. Andrew Kalnow and Mr. John Huss
URL:https://www.tiffin.edu/event/lifetu-10/
CATEGORIES:Engaged Fridays
END:VEVENT
BEGIN:VEVENT
DTSTART;TZID=America/New_York:20231110T110000
DTEND;TZID=America/New_York:20231110T120000
DTSTAMP:20260425T080110
CREATED:20230118T183504Z
LAST-MODIFIED:20230118T183504Z
UID:9059-1699614000-1699617600@www.tiffin.edu
SUMMARY:Engaged Friday: First-Gen and a Friend
DESCRIPTION:In honor of National First-Generation College Student day\, First-Gen Dragons will be hosting First-Gen and a Friend on November 10th\, 2023 from 11:00 am-12:00 pm in Osceola Theater. This event is open to all students of all major and will include a keynote address and a Q&A panel with TU alumni from diverse backgrounds and careers!
URL:https://www.tiffin.edu/event/engaged-friday-first-gen-and-a-friend/
END:VEVENT
BEGIN:VEVENT
DTSTART;TZID=America/New_York:20231110T110000
DTEND;TZID=America/New_York:20231110T120000
DTSTAMP:20260425T080110
CREATED:20230815T185141Z
LAST-MODIFIED:20230815T185141Z
UID:10453-1699614000-1699617600@www.tiffin.edu
SUMMARY:Science Department Alumni Speaker
DESCRIPTION:In person presentation by a forensic science\, exercise science or chemistry alum.
URL:https://www.tiffin.edu/event/science-department-alumni-speaker-10/
LOCATION:Center for Science and Technology
CATEGORIES:Engaged Fridays
END:VEVENT
BEGIN:VEVENT
DTSTART;TZID=America/New_York:20231110T110000
DTEND;TZID=America/New_York:20231110T130000
DTSTAMP:20260425T080110
CREATED:20230424T150418Z
LAST-MODIFIED:20230424T150418Z
UID:9714-1699614000-1699621200@www.tiffin.edu
SUMMARY:First-Gen and a Friend
DESCRIPTION:
URL:https://www.tiffin.edu/event/first-gen-and-a-friend/
LOCATION:Osceola Theatre
CATEGORIES:Engaged Fridays
END:VEVENT
BEGIN:VEVENT
DTSTART;TZID=America/New_York:20231110T110000
DTEND;TZID=America/New_York:20231110T130000
DTSTAMP:20260425T080110
CREATED:20230815T185053Z
LAST-MODIFIED:20230815T185053Z
UID:10452-1699614000-1699621200@www.tiffin.edu
SUMMARY:First-Gen & Friends Event
DESCRIPTION:Keynote speaker and panel discussion
URL:https://www.tiffin.edu/event/first-gen-friends-event/
LOCATION:Osceola Theatre
CATEGORIES:Engaged Fridays
END:VEVENT
BEGIN:VEVENT
DTSTART;TZID=America/New_York:20231110T120000
DTEND;TZID=America/New_York:20231110T130000
DTSTAMP:20260425T080110
CREATED:20230815T185235Z
LAST-MODIFIED:20230815T185235Z
UID:10454-1699617600-1699621200@www.tiffin.edu
SUMMARY:Education Series
DESCRIPTION:Virtual engagement with our new special education teacher- differentiation in the classroom and scaffolding
URL:https://www.tiffin.edu/event/education-series-6/
CATEGORIES:Engaged Fridays
END:VEVENT
BEGIN:VEVENT
DTSTART;TZID=America/New_York:20231110T153000
DTEND;TZID=America/New_York:20231110T170000
DTSTAMP:20260425T080110
CREATED:20230815T185339Z
LAST-MODIFIED:20230815T185339Z
UID:10455-1699630200-1699635600@www.tiffin.edu
SUMMARY:Painting Workshop
DESCRIPTION:Channel your creativity! Hosted in the library conference room every other Friday\, our painting workshops are a great way to unwind after a long week. All materials are provided – including a wealth of miniatures printed in-house on our resin 3D printer! \nRegister Now. 
URL:https://www.tiffin.edu/event/painting-workshop-6/
LOCATION:Pfeiffer Library
CATEGORIES:Engaged Fridays
END:VEVENT
BEGIN:VEVENT
DTSTART;TZID=America/New_York:20231115T110000
DTEND;TZID=America/New_York:20231115T120000
DTSTAMP:20260425T080110
CREATED:20230817T152628Z
LAST-MODIFIED:20230817T152628Z
UID:10506-1700046000-1700049600@www.tiffin.edu
SUMMARY:International Flag Ceremony
DESCRIPTION:Join us for the International Flag Ceremony to celebrate all of the cultures on TU’s campus.
URL:https://www.tiffin.edu/event/international-flag-ceremony-2/
CATEGORIES:Student Engagement
END:VEVENT
BEGIN:VEVENT
DTSTART;TZID=America/New_York:20231117T100000
DTEND;TZID=America/New_York:20231117T120000
DTSTAMP:20260425T080110
CREATED:20230815T185506Z
LAST-MODIFIED:20230815T185506Z
UID:10456-1700215200-1700222400@www.tiffin.edu
SUMMARY:Poster/Cricut Workshop
DESCRIPTION:Are you looking for a way to elevate your living space? Maybe bring some flair into your classroom? Now you can! In this workshop\, we will learn how to use a poster printer to transform your big ideas into even bigger wall prints and how to translate patterns into pieces of art on the Cricut machine. No experience necessary – just bring your creativity! \nRegister Now. 
URL:https://www.tiffin.edu/event/poster-cricut-workshop-6/
LOCATION:Pfeiffer Library
CATEGORIES:Engaged Fridays
END:VEVENT
BEGIN:VEVENT
DTSTART;TZID=America/New_York:20231117T110000
DTEND;TZID=America/New_York:20231117T140000
DTSTAMP:20260425T080110
CREATED:20230815T185647Z
LAST-MODIFIED:20230815T185647Z
UID:10458-1700218800-1700229600@www.tiffin.edu
SUMMARY:Yards for Yeardley Walk
DESCRIPTION:This event is centered around dating violence prevention and will be part of the Engaged Fridays initiative on campus. One Love Foundation gives more information on Yards for Yeardley (our event would focus on prevention/awareness rather than fundraising).
URL:https://www.tiffin.edu/event/yards-for-yeardley-walk/
LOCATION:Heminger Center
CATEGORIES:Engaged Fridays
END:VEVENT
BEGIN:VEVENT
DTSTART;TZID=America/New_York:20231117T130000
DTEND;TZID=America/New_York:20231117T170000
DTSTAMP:20260425T080110
CREATED:20230815T185559Z
LAST-MODIFIED:20230815T185559Z
UID:10457-1700226000-1700240400@www.tiffin.edu
SUMMARY:Dungeons and Dragons: Adventurers’ Guild
DESCRIPTION:Have you ever wanted to be the hero of an epic story? Now you can be – join us for an afternoon of cooperative storytelling and tabletop roleplaying fun! Each session is a self-contained adventure designed for about six players\, hosted in the library conference room\, and led by an experienced dungeon master. Registration is required\, but prior experience is not – we happily welcome and support brand-new players. Will you play a cunning rogue\, the mastermind of a great heist? Or perhaps a learned wizard\, who has read all of the books in our collection (and then some!)? Engage your inner creative dragon and anything is possible!
URL:https://www.tiffin.edu/event/dungeons-and-dragons-adventurers-guild-6/
LOCATION:Pfeiffer Library
CATEGORIES:Engaged Fridays
END:VEVENT
BEGIN:VEVENT
DTSTART;TZID=America/New_York:20231117T193000
DTEND;TZID=America/New_York:20231117T230000
DTSTAMP:20260425T080110
CREATED:20230918T130820Z
LAST-MODIFIED:20230918T130820Z
UID:10728-1700249400-1700262000@www.tiffin.edu
SUMMARY:TU Night at the Cleveland Cavaliers Game
DESCRIPTION:Join Tiffin University for a night out as the Cavs take on the Detroit Pistons on Friday\, November 17 at 7:30 p.m. \nRegister Now. 
URL:https://www.tiffin.edu/event/tu-night-at-the-cleveland-cavaliers-game/
CATEGORIES:Alumni
END:VEVENT
BEGIN:VEVENT
DTSTART;TZID=America/New_York:20231117T200000
DTEND;TZID=America/New_York:20231117T210000
DTSTAMP:20260425T080110
CREATED:20231127T183722Z
LAST-MODIFIED:20231117T183957Z
UID:11115-1700251200-1700254800@www.tiffin.edu
SUMMARY:Gift Box Bingo
DESCRIPTION:Celebrate Winterfest by winning some fun prizes at this special Gift Box Bingo held by Campus Activities Board!
URL:https://www.tiffin.edu/event/gift-box-bingo/
LOCATION:Osceola Theatre
END:VEVENT
BEGIN:VEVENT
DTSTART;TZID=America/New_York:20231120T110000
DTEND;TZID=America/New_York:20231120T140000
DTSTAMP:20260425T080110
CREATED:20231120T143334Z
LAST-MODIFIED:20231120T143334Z
UID:11130-1700478000-1700488800@www.tiffin.edu
SUMMARY:Movember Awareness
DESCRIPTION:To take on mental health\, suicide\, prostate cancer\, and testicular cancer. Pick up your ribbon and information packets!
URL:https://www.tiffin.edu/event/movember-awareness/
END:VEVENT
BEGIN:VEVENT
DTSTART;TZID=America/New_York:20231121T200000
DTEND;TZID=America/New_York:20231121T220000
DTSTAMP:20260425T080110
CREATED:20231120T143412Z
LAST-MODIFIED:20231120T143412Z
UID:11131-1700596800-1700604000@www.tiffin.edu
SUMMARY:Greek Thanksgiving
DESCRIPTION:Greek Only Event
URL:https://www.tiffin.edu/event/greek-thanksgiving-2/
END:VEVENT
BEGIN:VEVENT
DTSTART;VALUE=DATE:20231122
DTEND;VALUE=DATE:20231125
DTSTAMP:20260425T080110
CREATED:20230612T130253Z
LAST-MODIFIED:20230612T130253Z
UID:10015-1700611200-1700870399@www.tiffin.edu
SUMMARY:Thanksgiving Recess
DESCRIPTION:
URL:https://www.tiffin.edu/event/thanksgiving-recess/
END:VEVENT
BEGIN:VEVENT
DTSTART;TZID=America/New_York:20231127T200000
DTEND;TZID=America/New_York:20231127T210000
DTSTAMP:20260425T080110
CREATED:20231120T143504Z
LAST-MODIFIED:20231120T143504Z
UID:11133-1701115200-1701118800@www.tiffin.edu
SUMMARY:Gift Box Bingo
DESCRIPTION:Hosted by Campus Activities Board
URL:https://www.tiffin.edu/event/gift-box-bingo-2/
END:VEVENT
BEGIN:VEVENT
DTSTART;TZID=America/New_York:20231128T130000
DTEND;TZID=America/New_York:20231128T150000
DTSTAMP:20260425T080110
CREATED:20231120T143556Z
LAST-MODIFIED:20231120T143556Z
UID:11134-1701176400-1701183600@www.tiffin.edu
SUMMARY:Winter Fest Hot Chocolate Bar
DESCRIPTION:Hosted by Student Engagement at the Wall Street Pub and Grill
URL:https://www.tiffin.edu/event/winter-fest-hot-chocolate-bar-2/
END:VEVENT
BEGIN:VEVENT
DTSTART;TZID=America/New_York:20231129T190000
DTEND;TZID=America/New_York:20231129T210000
DTSTAMP:20260425T080110
CREATED:20231117T184431Z
LAST-MODIFIED:20231117T184431Z
UID:11117-1701284400-1701291600@www.tiffin.edu
SUMMARY:Holiday Casino Night
DESCRIPTION:Hosted by Student Government as part of this years Winter Fest\, have some fun and come play some card games!
URL:https://www.tiffin.edu/event/holiday-casino-night/
LOCATION:Marion Center
END:VEVENT
BEGIN:VEVENT
DTSTART;TZID=America/New_York:20231130T200000
DTEND;TZID=America/New_York:20231130T220000
DTSTAMP:20260425T080110
CREATED:20231117T184634Z
LAST-MODIFIED:20231117T184634Z
UID:11118-1701374400-1701381600@www.tiffin.edu
SUMMARY:Holiday Movie and Craft Night
DESCRIPTION:Hosted by Greek Council for Winter Fest\, come out for a holiday movie (TBD) and crafting!
URL:https://www.tiffin.edu/event/holiday-movie-and-craft-night/
LOCATION:Marion Center
END:VEVENT
BEGIN:VEVENT
DTSTART;TZID=America/New_York:20231201T080000
DTEND;TZID=America/New_York:20231201T170000
DTSTAMP:20260425T080110
CREATED:20230612T130333Z
LAST-MODIFIED:20230612T130333Z
UID:10017-1701417600-1701450000@www.tiffin.edu
SUMMARY:Last Day of Class
DESCRIPTION:Last day of classes for the Fall 2023 Semester
URL:https://www.tiffin.edu/event/last-day-of-class-3/
END:VEVENT
BEGIN:VEVENT
DTSTART;TZID=America/New_York:20231201T080000
DTEND;TZID=America/New_York:20231201T170000
DTSTAMP:20260425T080110
CREATED:20230815T185743Z
LAST-MODIFIED:20230815T185743Z
UID:10459-1701417600-1701450000@www.tiffin.edu
SUMMARY:3D Printer Workshop
DESCRIPTION:Have you ever wanted to turn an idea into a small physical object? Now you can! In this workshop\, we will learn how to design basic objects and then turn those designs into physical\, 3D-printed trinkets. Tinker with the library’s new resin 3D printer and TinkerCAD and bring your imagination to life! \nRegister Now. 
URL:https://www.tiffin.edu/event/3d-printer-workshop-7/
LOCATION:Pfeiffer Library
CATEGORIES:Engaged Fridays
END:VEVENT
BEGIN:VEVENT
DTSTART;TZID=America/New_York:20231201T120000
DTEND;TZID=America/New_York:20231201T130000
DTSTAMP:20260425T080110
CREATED:20230815T185822Z
LAST-MODIFIED:20230815T185822Z
UID:10460-1701432000-1701435600@www.tiffin.edu
SUMMARY:Education Series
DESCRIPTION:Virtual Event: Writing Resumes and Cover Letters
URL:https://www.tiffin.edu/event/education-series-7/
CATEGORIES:Engaged Fridays
END:VEVENT
BEGIN:VEVENT
DTSTART;TZID=America/New_York:20231201T153000
DTEND;TZID=America/New_York:20231201T170000
DTSTAMP:20260425T080110
CREATED:20230815T185918Z
LAST-MODIFIED:20230815T185918Z
UID:10461-1701444600-1701450000@www.tiffin.edu
SUMMARY:Painting Workshop
DESCRIPTION:Channel your creativity! Hosted in the library conference room every other Friday\, our painting workshops are a great way to unwind after a long week. All materials are provided – including a wealth of miniatures printed in-house on our resin 3D printer! \nRegister Now. 
URL:https://www.tiffin.edu/event/painting-workshop-7/
LOCATION:Pfeiffer Library
CATEGORIES:Engaged Fridays
END:VEVENT
BEGIN:VEVENT
DTSTART;TZID=America/New_York:20231201T180000
DTEND;TZID=America/New_York:20231201T210000
DTSTAMP:20260425T080110
CREATED:20231117T184830Z
LAST-MODIFIED:20231117T184830Z
UID:11119-1701453600-1701464400@www.tiffin.edu
SUMMARY:Winter Fest Ice Skating Night
DESCRIPTION:Student Engagement is hosting a night dedicating to ice skating this Winter Fest!
URL:https://www.tiffin.edu/event/winter-fest-ice-skating-night-2/
LOCATION:Marion Center
END:VEVENT
BEGIN:VEVENT
DTSTART;TZID=America/New_York:20231202T100000
DTEND;TZID=America/New_York:20231202T110000
DTSTAMP:20260425T080110
CREATED:20231117T185040Z
LAST-MODIFIED:20231117T185040Z
UID:11120-1701511200-1701514800@www.tiffin.edu
SUMMARY:Kiwani's Christmas Parade
DESCRIPTION:The Parade route will run from St. Joe’s Church to Riverside Drive before the bridge!
URL:https://www.tiffin.edu/event/kiwanis-christmas-parade/
END:VEVENT
BEGIN:VEVENT
DTSTART;TZID=America/New_York:20231202T170000
DTEND;TZID=America/New_York:20231202T183000
DTSTAMP:20260425T080110
CREATED:20230515T202345Z
LAST-MODIFIED:20231031T152940Z
UID:9878-1701536400-1701541800@www.tiffin.edu
SUMMARY:Tiffin\, OH Holiday Gathering
DESCRIPTION:Join Tiffin University\, Dan and Nikki Reineke\, and other local alumni for a holiday gathering with drinks and small bites in Tiffin\, OH on Saturday\, December 2. \nRegister Now. 
URL:https://www.tiffin.edu/event/tiffin-oh-holiday-gathering/
CATEGORIES:Alumni
END:VEVENT
BEGIN:VEVENT
DTSTART;TZID=America/New_York:20231202T180000
DTEND;TZID=America/New_York:20231202T190000
DTSTAMP:20260425T080110
CREATED:20230817T152753Z
LAST-MODIFIED:20230817T152753Z
UID:10507-1701540000-1701543600@www.tiffin.edu
SUMMARY:Christmas at The Ritz
DESCRIPTION:The annual tradition continues with Christmas at The Ritz\, enjoy a holiday celebration at the Historic Ritz Theatre in Downtown Tiffin.
URL:https://www.tiffin.edu/event/christmas-at-the-ritz-2/
CATEGORIES:TiffinArts
END:VEVENT
END:VCALENDAR